Workbook

Sheet (입력금지)총괄
A1: 2025년 제3회 추가경정예산안 예산결산특별위원회 종합심사 결과
H2: (단위 : 천원)
B3: 구 분 | D3: 2026년 세입예산안(A) | E3: 세입조정(B) | F3: 세입수정예산안 (A-B) | G3: 세출예산 | J3: 세출수정예산안 (A-C+D+E) | K3: 비고 (증감율) | L3: 예산안 일반예비비 | M3: 수정의결할 일반예비비 | N3: 특별회계명
G4: 삭감액(C) | H4: 증액(D) | I4: 예비비 증액(E)
B5: 총 계 | D5: =D6+D7 -> 2929867422 | E5: =SUM(E6:E7) -> 0 | F5: =SUM(F6:F7) -> 2929867422 | G5: =G6+G7 -> 0 | H5: =SUM(H6:H7) -> 0 | I5: =SUM(I6:I7) -> 0 | J5: =J6+J7 -> 2929867422 | K5: =((-I5)/D5)*100 -> 0 | L5: =SUM(L6,L8,L11) -> 0 | M5: =L5+I5 -> 0 | N5: 공유재산관리
B6: 일 반 회 계 | D6: 2445391822 | E6: ='1 일반회계(세입)'!K5 -> 0 | F6: =D6-E6 -> 2445391822 | G6: ='(입력금지)상임위별 종합심사결과(총괄)'!G6 -> 0 | H6: ='(입력금지)상임위별 종합심사결과(총괄)'!H6 -> 0 | I6: =-(G6+H6) -> 0 | J6: =D6-G6-(H6+I6) -> 2445391822 | K6: =((-I6)/D6)*100 -> 0 | M6: =L6+I6 -> 0 | N6: 의료급여기금
B7: 특 별 회 계 | D7: =D8+D11 -> 484475600 | E7: =SUM(E8,E11) -> 0 | F7: =D7-E7 -> 484475600 | G7: =SUM(G8,G11) -> 0 | H7: =SUM(H8,H11) -> 0 | I7: =SUM(I8,I11) -> 0 | J7: =D7-G7-(H7+I7) -> 484475600 | K7: =((-I7)/D7)*100 -> 0 | N7: 교통사업
B8: 공기업 특 별 회 계 | C8: 소 계 | D8: =D9+D10 -> 228818720 | E8: =SUM(E9:E10) -> 0 | F8: =D8-E8 -> 228818720 | G8: =SUM(G9:G10) -> 0 | H8: =SUM(H9:H10) -> 0 | I8: =SUM(I9:I10) -> 0 | J8: =J9+J10 -> 228818720 | K8: =((-I8)/D8)*100 -> 0 | L8: =SUM(L9:L10) -> 0 | M8: =L8+I8 -> 0 | N8: 철도건설사업
C9: 상수도사업 | D9: 93788375 | E9: =SUMIFS('5 공기업특별회계(세입)'!$K:$K,'5 공기업특별회계(세입)'!$B:$B,"상수도특별회계") -> 0 | F9: =D9-E9 -> 93788375 | G9: =SUMIFS('6 공기업특별회계(세출)'!K:K,'6 공기업특별회계(세출)'!$B:$B,"상수도특별회계",'6 공기업특별회계(세출)'!K:K,"<0") -> 0 | H9: =SUMIFS('6 공기업특별회계(세출)'!$K:$K,'6 공기업특별회계(세출)'!$B:$B,"상수도특별회계",'6 공기업특별회계(세출)'!K:K,">0") -> 0 | I9: =-(G9+H9) -> 0 | J9: =D9-G9-(H9+I9) -> 93788375 | K9: =((-I9)/D9)*100 -> 0 | M9: =L9+I9 -> 0 | N9: 폐기물처리시설
C10: 하수도사업 | D10: 135030345 | E10: =SUMIFS('5 공기업특별회계(세입)'!$K:$K,'5 공기업특별회계(세입)'!$B:$B,"하수도특별회계") -> 0 | F10: =D10-E10 -> 135030345 | G10: =SUMIFS('6 공기업특별회계(세출)'!K:K,'6 공기업특별회계(세출)'!$B:$B,"하수도특별회계",'6 공기업특별회계(세출)'!K:K,"<0") -> 0 | H10: =SUMIFS('6 공기업특별회계(세출)'!$K:$K,'6 공기업특별회계(세출)'!$B:$B,"하수도특별회계",'6 공기업특별회계(세출)'!K:K,">0") -> 0 | I10: =-(G10+H10) -> 0 | J10: =D10-G10-(H10+I10) -> 135030345 | K10: =((-I10)/D10)*100 -> 0 | M10: =L10+I10 -> 0 | N10: 도시개발
B11: 기 타 특 별 회 계 | C11: 소 계 | D11: =SUM(D12:D22) -> 255656880 | E11: =SUM(E12:E23) -> 0 | F11: =D11-E11 -> 255656880 | G11: =SUM(G12:G22) -> 0 | H11: =SUM(H12:H22) -> 0 | I11: =SUM(I12:I22) -> 0 | J11: =SUM(J12:J22) -> 255656880 | K11: =((-I11)/D11)*100 -> 0 | L11: =SUM(L12:L22) -> 0 | M11: =L11+I11 -> 0 | N11: 공공시설등 설치
C12: 공유재산관리 | D12: 88988273 | E12: =SUMIFS('3 기타특별회계(세입)'!$K:$K,'3 기타특별회계(세입)'!$B:$B,"공유재산관리특별회계") -> 0 | F12: =D12-E12 -> 88988273 | G12: =SUMIFS('4 기타특별회계(세출)'!$K:$K,'4 기타특별회계(세출)'!$B:$B,"공유재산관리특별회계",'4 기타특별회계(세출)'!$K:$K,"<0") -> 0 | H12: =SUMIFS('4 기타특별회계(세출)'!$K:$K,'4 기타특별회계(세출)'!$B:$B,"공유재산관리특별회계",'4 기타특별회계(세출)'!$K:$K,">0") -> 0 | I12: =-(G12+H12) -> 0 | J12: =D12-G12-(H12+I12) -> 88988273 | K12: =((-I12)/D12)*100 -> 0 | L12: 0 | M12: =L12+I12 -> 0 | N12: 문화시설건립
C13: 의료급여기금 | D13: 11835686 | E13: =SUMIFS('3 기타특별회계(세입)'!$K:$K,'3 기타특별회계(세입)'!$B:$B,"의료급여기금특별회계") -> 0 | F13: =D13-E13 -> 11835686 | G13: =SUMIFS('4 기타특별회계(세출)'!$K:$K,'4 기타특별회계(세출)'!$B:$B,"의료급여기금특별회계",'4 기타특별회계(세출)'!$K:$K,"<0") -> 0 | H13: =SUMIFS('4 기타특별회계(세출)'!$K:$K,'4 기타특별회계(세출)'!$B:$B,"의료급여기금특별회계",'4 기타특별회계(세출)'!$K:$K,">0") -> 0 | I13: =-(G13+H13) -> 0 | J13: =D13-G13-(H13+I13) -> 11835686 | K13: =((-I13)/D13)*100 -> 0 | L13: 0 | M13: =L13+I13 -> 0 | N13: 도시재생
C14: 교통사업 | D14: 42826127 | E14: =SUMIFS('3 기타특별회계(세입)'!$K:$K,'3 기타특별회계(세입)'!$B:$B,"교통사업특별회계") -> 0 | F14: =D14-E14 -> 42826127 | G14: =SUMIFS('4 기타특별회계(세출)'!$K:$K,'4 기타특별회계(세출)'!$B:$B,"교통사업특별회계",'4 기타특별회계(세출)'!$K:$K,"<0") -> 0 | H14: =SUMIFS('4 기타특별회계(세출)'!$K:$K,'4 기타특별회계(세출)'!$B:$B,"교통사업특별회계",'4 기타특별회계(세출)'!$K:$K,">0") -> 0 | I14: =-(G14+H14) -> 0 | J14: =D14-G14-(H14+I14) -> 42826127 | K14: =((-I14)/D14)*100 -> 0 | L14: 0 | M14: =L14+I14 -> 0 | N14: 성골지구도시개발
C15: 철도건설사업 | D15: 59282494 | E15: =SUMIFS('3 기타특별회계(세입)'!$K:$K,'3 기타특별회계(세입)'!$B:$B,"철도건설사업특별회계") -> 0 | F15: =D15-E15 -> 59282494 | G15: =SUMIFS('4 기타특별회계(세출)'!$K:$K,'4 기타특별회계(세출)'!$B:$B,"철도건설사업특별회계",'4 기타특별회계(세출)'!$K:$K,"<0") -> 0 | H15: =SUMIFS('4 기타특별회계(세출)'!$K:$K,'4 기타특별회계(세출)'!$B:$B,"철도건설사업특별회계",'4 기타특별회계(세출)'!$K:$K,"0>") -> 0 | I15: =-(G15+H15) -> 0 | J15: =D15-G15-(H15+I15) -> 59282494 | K15: =((-I15)/D15)*100 -> 0 | L15: 0 | M15: =L15+I15 -> 0 | N15: 발전소주변지역지원
C16: 폐기물처리시설 | D16: 4021257 | E16: =SUMIFS('3 기타특별회계(세입)'!$K:$K,'3 기타특별회계(세입)'!$B:$B,"폐기물처리시설특별회계") -> 0 | F16: =D16-E16 -> 4021257 | G16: =SUMIFS('4 기타특별회계(세출)'!$K:$K,'4 기타특별회계(세출)'!$B:$B,"폐기물처리시설특별회계",'4 기타특별회계(세출)'!$K:$K,"<0") -> 0 | H16: =SUMIFS('4 기타특별회계(세출)'!$K:$K,'4 기타특별회계(세출)'!$B:$B,"폐기물처리시설특별회계",'4 기타특별회계(세출)'!$K:$K,"0>") -> 0 | I16: =-(G16+H16) -> 0 | J16: =D16-G16-(H16+I16) -> 4021257 | K16: =((-I16)/D16)*100 -> 0 | L16: 0 | M16: =L16+I16 -> 0
C17: 도시개발 | D17: 11367302 | E17: =SUMIFS('3 기타특별회계(세입)'!$K:$K,'3 기타특별회계(세입)'!$B:$B,"도시개발특별회계") -> 0 | F17: =D17-E17 -> 11367302 | G17: =SUMIFS('4 기타특별회계(세출)'!$K:$K,'4 기타특별회계(세출)'!$B:$B,"도시개발특별회계",'4 기타특별회계(세출)'!$K:$K,"<0") -> 0 | H17: =SUMIFS('4 기타특별회계(세출)'!$K:$K,'4 기타특별회계(세출)'!$B:$B,"도시개발특별회계",'4 기타특별회계(세출)'!$K:$K,">0") -> 0 | I17: =-(G17+H17) -> 0 | J17: =D17-G17-(H17+I17) -> 11367302 | K17: =((-I17)/D17)*100 -> 0 | L17: 0 | M17: =L17+I17 -> 0
C18: 공공시설등설치 | D18: 36372 | E18: =SUMIFS('3 기타특별회계(세입)'!$K:$K,'3 기타특별회계(세입)'!$B:$B,"공공시설등설치특별회계") -> 0 | F18: =D18-E18 -> 36372 | G18: =SUMIFS('4 기타특별회계(세출)'!$K:$K,'4 기타특별회계(세출)'!$B:$B,"공공시설등설치특별회계",'4 기타특별회계(세출)'!$K:$K,"<0") -> 0 | H18: =SUMIFS('4 기타특별회계(세출)'!$K:$K,'4 기타특별회계(세출)'!$B:$B,"공공시설등설치특별회계",'4 기타특별회계(세출)'!$K:$K,">0") -> 0 | I18: =-(G18+H18) -> 0 | J18: =D18-G18-(H18+I18) -> 36372 | K18: =((-I18)/D18)*100 -> 0 | L18: 0 | M18: =L18+I18 -> 0
C19: 문화시설건립 | D19: 14930 | E19: =SUMIFS('3 기타특별회계(세입)'!$K:$K,'3 기타특별회계(세입)'!$B:$B,"문화시설건립특별회계") -> 0 | F19: =D19-E19 -> 14930 | G19: 0 | H19: 0 | I19: =-(G19+H19) -> 0 | J19: =D19-G19-(H19+I19) -> 14930 | K19: =((-I19)/D19)*100 -> 0 | L19: 0 | M19: =L19+I19 -> 0
C20: 도시재생 | D20: 28264986 | E20: =SUMIFS('3 기타특별회계(세입)'!$K:$K,'3 기타특별회계(세입)'!$B:$B,"도시재생특별회계") -> 0 | F20: =D20-E20 -> 28264986 | G20: =SUMIFS('4 기타특별회계(세출)'!$K:$K,'4 기타특별회계(세출)'!$B:$B,"도시재생특별회계",'4 기타특별회계(세출)'!$K:$K,"<0") -> 0 | H20: =SUMIFS('4 기타특별회계(세출)'!$K:$K,'4 기타특별회계(세출)'!$B:$B,"도시재생특별회계",'4 기타특별회계(세출)'!$K:$K,">0") -> 0 | I20: =-(G20+H20) -> 0 | J20: =D20-G20-(H20+I20) -> 28264986 | K20: =((-I20)/D20)*100 -> 0 | L20: 0 | M20: =L20+I20 -> 0
C21: 성골지구도시개발 | D21: 9018652 | E21: =SUMIFS('3 기타특별회계(세입)'!$K:$K,'3 기타특별회계(세입)'!$B:$B,"성골지구도시개발특별회계") -> 0 | F21: =D21-E21 -> 9018652 | G21: =SUMIFS('4 기타특별회계(세출)'!$K:$K,'4 기타특별회계(세출)'!$B:$B,"성골지구개발특별회계",'4 기타특별회계(세출)'!$K:$K,"<0") -> 0 | H21: =SUMIFS('4 기타특별회계(세출)'!$K:$K,'4 기타특별회계(세출)'!$B:$B,"성골지구개발특별회계",'4 기타특별회계(세출)'!$K:$K,">0") -> 0 | I21: =-(G21+H21) -> 0 | J21: =D21-G21-(H21+I21) -> 9018652 | K21: =((-I21)/D21)*100 -> 0 | L21: 0 | M21: =L21+I21 -> 0
C22: 발전소주변지역지원 | D22: 801 | E22: =SUMIFS('3 기타특별회계(세입)'!$K:$K,'3 기타특별회계(세입)'!$B:$B,"발전소주변지역지원특별회계") -> 0 | F22: =D22-E22 -> 801 | G22: =SUMIFS('4 기타특별회계(세출)'!$K:$K,'4 기타특별회계(세출)'!$B:$B,"발전소주변지역지원사업특별회계",'4 기타특별회계(세출)'!$K:$K,"<0") -> 0 | H22: =SUMIFS('4 기타특별회계(세출)'!$K:$K,'4 기타특별회계(세출)'!$B:$B,"발전소주변지역지원사업특별회계",'4 기타특별회계(세출)'!$K:$K,">0") -> 0 | I22: =-(G22+H22) -> 0 | J22: =D22-G22-(H22+I22) -> 801 | K22: =((-I22)/D22)*100 -> 0 | L22: 0 | M22: =L22+I22 -> 0

Sheet (입력금지)상임위별 종합심사결과(총괄)
A1: 2025년 제3회 추가경정예산안 위원회별 조정(삭감) 내역 (예결위 종합심사)
J2: (단위: 천원)
A3: 상임위원회 | B3: 예산구분 | C3: 2026년도 세입예산안(A) | D3: 세입조정 (B) | E3: 세입수정예산안 (A-B) | F3: 2026년도 세출예산안(C) | G3: 세출예산조정 | J3: 세출수정예산안 (C-D+D1+E)
G4: 삭감액(D) | H4: 증액(D1) | I4: 예비비증액(E=D+D1) | K4: 세입수정액=세출수정액 | M4: 삭감액=증액+예비비증액
A5: 계 | B5: 합계 | C5: =C6+C7+C8 -> 2514504248 | D5: =D6+D7+D8 -> 0 | E5: =C5-D5 -> 2514504248 | F5: =F6+F7+F8 -> 2514504248 | G5: =SUM(G6:G8) -> 0 | H5: =SUM(H6:H8) -> 0 | I5: =SUM(I6:I8) -> 0 | J5: =SUM(J6:J8) -> 2514504248 | K5: =IF(E5=J5,"O","X") -> O | M5: =IF(G5=-(H5+I5),"O","X") -> O
B6: 일반회계 | C6: =C11+C14+C17+C9 -> 2138547086 | D6: =D9+D11+D14+D17 -> 0 | E6: =C6-D6 -> 2138547086 | F6: =F11+F14+F17+F9 -> 2138547086 | G6: =SUM(G9,G11,G14,G17) -> 0 | H6: =SUM(H9,H11,H14,H17) -> 0 | I6: =SUM(I9,I11,I14,I17) -> 0 | J6: =J11+J14+J17+J9 -> 2138547086 | K6: =IF(E6=J6,"O","X") -> O | M6: =IF(G6=-(H6+I6),"O","X") -> O
B7: 공기업특별회계 | C7: =C18 -> 209104133 | D7: =D18 -> 0 | E7: =C7-D7 -> 209104133 | F7: =F18 -> 209104133 | G7: =SUM(G18) -> 0 | H7: =SUM(H18) -> 0 | I7: =SUM(I18) -> 0 | J7: =J18 -> 209104133 | K7: =IF(E7=J7,"O","X") -> O | M7: =IF(G7=-(H7+I7),"O","X") -> O
B8: 기타특별회계 | C8: =C12+C15+C19 -> 166853029 | D8: =D12+D15+D19 -> 0 | E8: =C8-D8 -> 166853029 | F8: =F12+F15+F19 -> 166853029 | G8: =SUM(G12,G15,G19) -> 0 | H8: =SUM(H12,H15,H19) -> 0 | I8: =SUM(I12,I15,I19) -> 0 | J8: =J12+J15+J19 -> 166853029 | K8: =IF(E8=J8,"O","X") -> O | M8: =IF(G8=-(H8+I8),"O","X") -> O
A9: 의회운영위원회 | B9: 일반회계 | C9: 3442627 | D9: =SUMIFS('1 일반회계(세입)'!$H:$H, '1 일반회계(세입)'!$A:$A,"의회운영위원회") -> 0 | E9: =C9-D9 -> 3442627 | F9: =C9 -> 3442627 | G9: =SUMIFS('2 일반회계(세출)'!$K:$K, '2 일반회계(세출)'!$A:$A,"의회운영위원회", '2 일반회계(세출)'!$B:$B, "일반회계",'2 일반회계(세출)'!$K:$K,"<0") -> 0 | H9: =SUMIFS('2 일반회계(세출)'!$K:$K, '2 일반회계(세출)'!$A:$A,"의회운영위원회", '2 일반회계(세출)'!$B:$B, "일반회계",'2 일반회계(세출)'!$K:$K,">0") -> 0 | I9: =-(G9+H9) -> 0 | J9: =F9+G9-I9 -> 3442627 | K9: =IF(E9=J9,"O","X") -> O | M9: =IF(G9=-(H9+I9),"O","X") -> O
A10: 재정문화위원회 | B10: 소계 | C10: =C11+C12 -> 540513604 | D10: =SUM(D11:D12) -> 0 | E10: =C10-D10 -> 540513604 | F10: =F11+F12 -> 540513604 | G10: =G11+G12 -> 0 | H10: =H11+H12 -> 0 | I10: =I11+I12 -> 0 | J10: =SUM(J11:J12) -> 540513604 | K10: =IF(E10=J10,"O","X") -> O | M10: =IF(G10=-(H10+I10),"O","X") -> O
B11: 일반회계 | C11: 527224489 | D11: =SUMIFS('1 일반회계(세입)'!$H:$H, '1 일반회계(세입)'!$A:$A,"재정문화위원회") -> 0 | E11: =C11-D11 -> 527224489 | F11: =C11 -> 527224489 | G11: =SUMIFS('2 일반회계(세출)'!$K:$K, '2 일반회계(세출)'!$A:$A,"재정문화위원회", '2 일반회계(세출)'!$B:$B, "일반회계",'2 일반회계(세출)'!$K:$K,"<0") -> 0 | H11: =SUMIFS('2 일반회계(세출)'!$K:$K, '2 일반회계(세출)'!$A:$A,"재정문화위원회", '2 일반회계(세출)'!$B:$B, "일반회계",'2 일반회계(세출)'!$K:$K,">0") -> 0 | I11: =-(G11+H11) -> 0 | J11: =F11+G11+H11+I11 -> 527224489 | K11: =IF(E11=J11,"O","X") -> O | M11: =IF(G11=-(H11+I11),"O","X") -> O
B12: 기타특별회계 | C12: 13289115 | D12: =SUMIFS('3 기타특별회계(세입)'!$H:$H, '3 기타특별회계(세입)'!$A:$A,"재정문화위원회", '3 기타특별회계(세입)'!$B:$B, "**특별회계") -> 0 | E12: =C12-D12 -> 13289115 | F12: =C12 -> 13289115 | G12: =SUMIFS('4 기타특별회계(세출)'!$K:$K, '4 기타특별회계(세출)'!$A:$A, "재정문화위원회", '4 기타특별회계(세출)'!$B:$B, "*특별회계", '4 기타특별회계(세출)'!$K:$K,"<0") -> 0 | H12: =SUMIFS('4 기타특별회계(세출)'!$K:$K, '4 기타특별회계(세출)'!$A:$A, "재정문화위원회", '4 기타특별회계(세출)'!$B:$B, "*특별회계", '4 기타특별회계(세출)'!$K:$K,">0") -> 0 | I12: =-(G12+H12) -> 0 | J12: =F12+G12+H12+I12 -> 13289115 | K12: =IF(E12=J12,"O","X") -> O | M12: =IF(G12=-(H12+I12),"O","X") -> O
A13: 행정복지위원회 | B13: 소계 | C13: =C14+C15 -> 1298530376 | D13: =SUM(D14:D15) -> 0 | E13: =E14+E15 -> 1298530376 | F13: =F14+F15 -> 1298530376 | G13: =G14+G15 -> 0 | H13: =H14+H15 -> 0 | I13: =I14+I15 -> 0 | J13: =SUM(J14:J15) -> 1298530376 | K13: =IF(E13=J13,"O","X") -> O | M13: =IF(G13=-(H13+I13),"O","X") -> O
B14: 일반회계 | C14: 1285980005 | D14: =SUMIFS('1 일반회계(세입)'!$H:$H, '1 일반회계(세입)'!$A:$A,"행정복지위원회") -> 0 | E14: =C14-D14 -> 1285980005 | F14: =C14 -> 1285980005 | G14: =SUMIFS('2 일반회계(세출)'!$K:$K, '2 일반회계(세출)'!$A:$A,"행정복지위원회", '2 일반회계(세출)'!$B:$B, "일반회계",'2 일반회계(세출)'!$K:$K,"<0") -> 0 | H14: =SUMIFS('2 일반회계(세출)'!$K:$K, '2 일반회계(세출)'!$A:$A,"행정복지위원회", '2 일반회계(세출)'!$B:$B, "일반회계",'2 일반회계(세출)'!$K:$K,">0") -> 0 | I14: =-(G14+H14) -> 0 | J14: =F14+G14+H14+I14 -> 1285980005 | K14: =IF(E14=J14,"O","X") -> O | M14: =IF(G14=-(H14+I14),"O","X") -> O
B15: 기타특별회계 | C15: 12550371 | D15: =SUMIFS('3 기타특별회계(세입)'!$H:$H, '3 기타특별회계(세입)'!$A:$A,"행정복지위원회", '3 기타특별회계(세입)'!$B:$B, "**특별회계") -> 0 | E15: =C15-D15 -> 12550371 | F15: =C15 -> 12550371 | G15: =SUMIFS('4 기타특별회계(세출)'!$K:$K, '4 기타특별회계(세출)'!$A:$A, "행정복지위원회", '4 기타특별회계(세출)'!$B:$B, "*특별회계", '4 기타특별회계(세출)'!$K:$K,"<0") -> 0 | H15: =SUMIFS('4 기타특별회계(세출)'!$K:$K, '4 기타특별회계(세출)'!$A:$A, "행정복지위원회", '4 기타특별회계(세출)'!$B:$B, "*특별회계", '4 기타특별회계(세출)'!$K:$K,">0") -> 0 | I15: =-(G15+H15) -> 0 | J15: =F15+G15+H15+I15 -> 12550371 | K15: =IF(E15=J15,"O","X") -> O | M15: =IF(G15=-(H15+I15),"O","X") -> O
A16: 도시교통위원회 | B16: 소계 | C16: =C17+C18+C19 -> 672017641 | D16: =SUM(D17:D19) -> 0 | E16: =E17+E18+E19 -> 672017641 | F16: =F17+F18+F19 -> 672017641 | G16: =G17+G18+G19 -> 0 | H16: =H17+H18+H19 -> 0 | I16: =I17+I18+I19 -> 0 | J16: =SUM(J17:J19) -> 672017641 | K16: =IF(E16=J16,"O","X") -> O | M16: =IF(G16=-(H16+I16),"O","X") -> O
B17: 일반회계 | C17: 321899965 | D17: =SUMIFS('1 일반회계(세입)'!$H:$H, '1 일반회계(세입)'!$A:$A,"도시교통위원회") -> 0 | E17: =C17-D17 -> 321899965 | F17: =C17 -> 321899965 | G17: =SUMIFS('2 일반회계(세출)'!$K:$K, '2 일반회계(세출)'!$A:$A,"도시교통위원회", '2 일반회계(세출)'!$B:$B, "일반회계",'2 일반회계(세출)'!$K:$K,"<0") -> 0 | H17: =SUMIFS('2 일반회계(세출)'!$K:$K, '2 일반회계(세출)'!$A:$A,"도시교통위원회", '2 일반회계(세출)'!$B:$B, "일반회계",'2 일반회계(세출)'!$K:$K,">0") -> 0 | I17: =-(G17+H17) -> 0 | J17: =F17+G17+H17+I17 -> 321899965 | K17: =IF(E17=J17,"O","X") -> O | M17: =IF(G17=-(H17+I17),"O","X") -> O
B18: 공기업특별회계 | C18: 209104133 | D18: =SUMIFS('5 공기업특별회계(세입)'!$H:$H, '5 공기업특별회계(세입)'!$A:$A,"도시교통위원회", '5 공기업특별회계(세입)'!$B:$B, "**특별회계") -> 0 | E18: =C18-D18 -> 209104133 | F18: =C18 -> 209104133 | G18: =SUMIFS('6 공기업특별회계(세출)'!$K:$K, '6 공기업특별회계(세출)'!$B:$B,"상수도특별회계",'6 공기업특별회계(세출)'!$H:$H,"<0")+SUMIFS('6 공기업특별회계(세출)'!$K:$K, '6 공기업특별회계(세출)'!$B:$B,"하수도특별회계",'6 공기업특별회계(세출)'!$H:$H, "<0") -> 0 | H18: =SUMIFS('6 공기업특별회계(세출)'!$K:$K, '6 공기업특별회계(세출)'!$B:$B,"상수도특별회계",'6 공기업특별회계(세출)'!$K:$K,">0")+SUMIFS('6 공기업특별회계(세출)'!$K:$K, '6 공기업특별회계(세출)'!$B:$B,"하수도특별회계",'6 공기업특별회계(세출)'!$K:$K, ">0") -> 0 | I18: =-(G18+H18) -> 0 | J18: =F18+G18+H18+I18 -> 209104133 | K18: =IF(E18=J18,"O","X") -> O | M18: =IF(G18=-(H18+I18),"O","X") -> O
B19: 기타특별회계 | C19: 141013543 | D19: =SUMIFS('3 기타특별회계(세입)'!$H:$H, '3 기타특별회계(세입)'!$A:$A,"도시교통위원회", '3 기타특별회계(세입)'!$B:$B, "**특별회계") -> 0 | E19: =C19-D19 -> 141013543 | F19: =C19 -> 141013543 | G19: =SUMIFS('4 기타특별회계(세출)'!$K:$K, '4 기타특별회계(세출)'!$A:$A, "도시교통위원회", '4 기타특별회계(세출)'!$B:$B, "*특별회계", '4 기타특별회계(세출)'!$K:$K,"<0") -> 0 | H19: =SUMIFS('4 기타특별회계(세출)'!$K:$K, '4 기타특별회계(세출)'!$A:$A, "도시교통위원회", '4 기타특별회계(세출)'!$B:$B, "*특별회계", '4 기타특별회계(세출)'!$K:$K,">0") -> 0 | I19: =-(G19+H19) -> 0 | J19: =F19+G19+H19+I19 -> 141013543 | K19: =IF(E19=J19,"O","X") -> O | M19: =IF(G19=-(H19+I19),"O","X") -> O

Sheet 재정문화(기타특별-공유재산관리)
A1: 재정문화위원회(기타특별-공유재산관리) | H1: (단위 : 천원)
A2: 소관부서 | B2: 예산과목 | C2: 사업명 | D2: 예산(안)액 | E2: 예산결산특별위원회 종합심사 | G2: 수정예산액 | H2: 부대의견 | I2: 비고
B3: 통계목 (page ) | E3: 삭감(조정)액 | F3: 삭감(조정) 사유
A4: 합계 | E4: =SUM(E6:E21) -> 0
G6: =D6-E6 -> 0
G7: =D7-E7 -> 0
G8: =D8-E8 -> 0
G9: =D9-E9 -> 0
G10: =D10-E10 -> 0

Sheet 재정문화세출(특별회계)
B1: 2018년도 본예산 세출 예산 조정(안)
A2: 재정문화위원회소관(기타특별회계) | J2: (단위 : 천원)
A3: 회계구분 | B3: 소관부서 | C3: 예산과목 | D3: 예산안 페이지 | E3: 사업명 | F3: 예산(안)액 | G3: 상임위원회 예비심사 | I3: 수정예산액 | J3: 부대의견
C4: 통계목 | G4: 삭감(조정)액 | H4: 삭감(조정) 사유
F5: =SUM(F6:F12) -> 0 | G5: =SUM(G7:G12) -> 0 | H5: =SUM(H6:H12) -> 0 | I5: =SUM(I7:I12) -> 0
A6: 기타 특별회계 | F6: =SUM(F7:F12) -> 0 | G6: =SUM(G7:G12) -> 0 | I6: =SUM(I7:I12) -> 0
A7: 공유재산특별회계 | I7: =F7-G7 -> 0
I8: =F8-G8 -> 0
I9: =F9-G9 -> 0
I10: =F10-G10 -> 0
I11: =F11-G11 -> 0
I12: =F12-G12 -> 0

Sheet 행정복지(특별회계-상수도)
A1: 행정복지위원회(특별회계-상수도사업) | J1: (단위 : 천원)
A2: 소관부서 | B2: 예산과목 | C2: 사업명 | D2: 예산(안)액 | E2: 상임위원회 예비심사 | G2: 예산결산특별위원회 종합심사 | I2: 수정예산액 | J2: 부대의견 | K2: 비고
B3: 통계목 (page ) | E3: 삭감액 | F3: 삭감사유 | G3: 삭감(조정)액 | H3: 삭감(조정) 사유
A4: 합계 | E4: =SUM(E5:E15) -> 0 | G4: =SUM(G5:G15) -> 0
I6: =D6-G6 -> 0
I7: =D7-G7 -> 0
I8: =D8-G8 -> 0
I9: =D9-G9 -> 0
I10: =D10-G10 -> 0

Sheet 행정복지(특별회계-하수도)
A1: 행정복지위원회(특별회계-하수도사업) | J1: (단위 : 천원)
A2: 소관부서 | B2: 예산과목 | C2: 사업명 | D2: 예산(안)액 | E2: 상임위원회 예비심사 | G2: 예산결산특별위원회 종합심사 | I2: 수정예산액 | J2: 부대의견 | K2: 비고
B3: 통계목 (page ) | E3: 삭감액 | F3: 삭감사유 | G3: 삭감(조정)액 | H3: 삭감(조정) 사유
A4: 합계 | E4: =SUM(E6:E36) -> 0 | G4: =SUM(G6:G36) -> 0
I6: =D6-G6 -> 0
I7: =D7-G7 -> 0
I8: =D8-G8 -> 0
I9: =D9-G9 -> 0
I10: =D10-G10 -> 0

Sheet 행정복지(기타특별-공유재산관리)
A1: 행정복지위원회(기타특별회계-공유재산관리) | F1: (단위 : 천원)
A2: 소관부서 | B2: 예산과목 | C2: 사업명 | D2: 예산(안)액 | E2: 예산결산특별위원회 종합심사 | G2: 수정예산액 | H2: 부대의견 | I2: 비고
B3: 통계목 (page ) | E3: 삭감(조정)액 | F3: 삭감(조정) 사유
A4: 합계 | E4: =SUM(E5:E419) -> 0
A5: 00000과
C6: ○ | G6: =D6-E6 -> 0
G7: =D7-E7 -> 0
G8: =D8-E8 -> 0
G9: =D9-E9 -> 0
G10: =D10-E10 -> 0

Sheet 행정복지(기타특별-의료급여기금)
A1: 행정복지위원회(기타특별회계-의료급여기금) | F1: (단위 : 천원)
A2: 소관부서 | B2: 예산과목 | C2: 사업명 | D2: 예산(안)액 | E2: 예산결산특별위원회 종합심사 | G2: 수정예산액 | H2: 부대의견 | I2: 비고
B3: 통계목 (page ) | E3: 삭감(조정)액 | F3: 삭감(조정) 사유
A4: 합계 | E4: =SUM(E5:E419) -> 0
A5: 00000과
C6: ○ | G6: =D6-E6 -> 0
G7: =D7-E7 -> 0
G8: =D8-E8 -> 0
G9: =D9-E9 -> 0
G10: =D10-E10 -> 0

Sheet 행정복지(기타특별-기초생활보장
A1: 행정복지위원회(기타특별회계-기초생활보장) | F1: (단위 : 천원)
A2: 소관부서 | B2: 예산과목 | C2: 사업명 | D2: 예산(안)액 | E2: 예산결산특별위원회 종합심사 | G2: 수정예산액 | H2: 부대의견 | I2: 비고
B3: 통계목 (page ) | E3: 삭감(조정)액 | F3: 삭감(조정) 사유
A4: 합계 | E4: =SUM(E5:E419) -> 0
A5: 00000과
C6: ○ | G6: =D6-E6 -> 0
G7: =D7-E7 -> 0
G8: =D8-E8 -> 0
G9: =D9-E9 -> 0
G10: =D10-E10 -> 0

Sheet (입력금지)상임위별 예비심사결과(총괄)
A1: 2026년 제2회 추가경정예산안 위원회별 조정(삭감) 내역 (상임위 예비심사)
J2: (단위: 천원)
A3: 상임위원회 | B3: 예산구분 | C3: 2026년 세입예산안(A) | D3: 세입조정 (B) | E3: 세입수정예산안 (A-B) | F3: 2026년 세출예산안(C) | G3: 세출예산조정 | J3: 세출수정예산안 (C-D+D1+E)
G4: 삭감액(D) | H4: 증액(D1) | I4: 예비비증액(E=D+D1) | K4: 세입수정액=세출수정액 | M4: 삭감액=증액+예비비증액
A5: 계 | B5: 합계 | C5: =C6+C7+C8 -> 2822223490 | D5: =D6+D7+D8 -> 0 | E5: =C5-D5 -> 2822223490 | F5: =F6+F7+F8 -> 2822223490 | G5: =SUM(G6:G8) -> -25980 | H5: =SUM(H6:H8) -> 0 | I5: =SUM(I6:I8) -> 25980 | J5: =SUM(J6:J8) -> 2822223490 | K5: =IF(E5=J5,"O","X") -> O | M5: =IF(G5=-(H5+I5),"O","X") -> O
B6: 일반회계 | C6: =C11+C14+C17+C9 -> 2406842002 | D6: =D9+D11+D14+D17 -> 0 | E6: =C6-D6 -> 2406842002 | F6: =F11+F14+F17+F9 -> 2406842002 | G6: =SUM(G9,G11,G14,G17) -> -25980 | H6: =SUM(H9,H11,H14,H17) -> 0 | I6: =SUM(I9,I11,I14,I17) -> 25980 | J6: =J11+J14+J17+J9 -> 2406842002 | K6: =IF(E6=J6,"O","X") -> O | M6: =IF(G6=-(H6+I6),"O","X") -> O
B7: 공기업특별회계 | C7: =C18 -> 229979047 | D7: =D18 -> 0 | E7: =C7-D7 -> 229979047 | F7: =F18 -> 229979047 | G7: =SUM(G18) -> 0 | H7: =SUM(H18) -> 0 | I7: =SUM(I18) -> 0 | J7: =J18 -> 229979047 | K7: =IF(E7=J7,"O","X") -> O | M7: =IF(G7=-(H7+I7),"O","X") -> O
B8: 기타특별회계 | C8: =C12+C15+C19 -> 185402441 | D8: =D12+D15+D19 -> 0 | E8: =C8-D8 -> 185402441 | F8: =F12+F15+F19 -> 185402441 | G8: =SUM(G12,G15,G19) -> 0 | H8: =SUM(H12,H15,H19) -> 0 | I8: =SUM(I12,I15,I19) -> 0 | J8: =J12+J15+J19 -> 185402441 | K8: =IF(E8=J8,"O","X") -> O | M8: =IF(G8=-(H8+I8),"O","X") -> O
A9: 의회운영위원회 | B9: 일반회계 | C9: ='2026 제2회 추경'!I6 -> 3338881 | D9: =SUMIFS('1 일반회계(세입)'!$H:$H, '1 일반회계(세입)'!$A:$A,"의회운영위원회") -> 0 | E9: =C9-D9 -> 3338881 | F9: =C9 -> 3338881 | G9: =SUMIFS('2 일반회계(세출)'!$H:$H, '2 일반회계(세출)'!$A:$A,"의회운영위원회", '2 일반회계(세출)'!$B:$B, "일반회계",'2 일반회계(세출)'!$H:$H,"<0") -> 0 | H9: =SUMIFS('2 일반회계(세출)'!$H:$H, '2 일반회계(세출)'!$A:$A,"의회운영위원회", '2 일반회계(세출)'!$B:$B, "일반회계",'2 일반회계(세출)'!$H:$H,">0") -> 0 | I9: =-(G9+H9) -> 0 | J9: =F9+G9-I9 -> 3338881 | K9: =IF(E9=J9,"O","X") -> O | M9: =IF(G9=-(H9+I9),"O","X") -> O
A10: 재정문화위원회 | B10: 소계 | C10: =C11+C12 -> 588579886 | D10: =SUM(D11:D12) -> 0 | E10: =C10-D10 -> 588579886 | F10: =F11+F12 -> 588579886 | G10: =G11+G12 -> 0 | H10: =H11+H12 -> 0 | I10: =I11+I12 -> 0 | J10: =SUM(J11:J12) -> 588579886 | K10: =IF(E10=J10,"O","X") -> O | M10: =IF(G10=-(H10+I10),"O","X") -> O
B11: 일반회계 | C11: ='2026 제2회 추경'!I7 -> 563438298 | D11: =SUMIFS('1 일반회계(세입)'!$H:$H, '1 일반회계(세입)'!$A:$A,"재정문화위원회") -> 0 | E11: =C11-D11 -> 563438298 | F11: =C11 -> 563438298 | G11: =SUMIFS('2 일반회계(세출)'!$H:$H, '2 일반회계(세출)'!$A:$A,"재정문화위원회", '2 일반회계(세출)'!$B:$B, "일반회계",'2 일반회계(세출)'!$H:$H,"<0") -> 0 | H11: =SUMIFS('2 일반회계(세출)'!$H:$H, '2 일반회계(세출)'!$A:$A,"재정문화위원회", '2 일반회계(세출)'!$B:$B, "일반회계",'2 일반회계(세출)'!$H:$H,">0") -> 0 | I11: =-(G11+H11) -> 0 | J11: =F11+G11+H11+I11 -> 563438298 | K11: =IF(E11=J11,"O","X") -> O | M11: =IF(G11=-(H11+I11),"O","X") -> O
B12: 기타특별회계 | C12: ='2026 제2회 추경'!J7 -> 25141588 | D12: =SUMIFS('3 기타특별회계(세입)'!$H:$H, '3 기타특별회계(세입)'!$A:$A,"재정문화위원회", '3 기타특별회계(세입)'!$B:$B, "**특별회계") -> 0 | E12: =C12-D12 -> 25141588 | F12: =C12 -> 25141588 | G12: =SUMIFS('4 기타특별회계(세출)'!$H:$H, '4 기타특별회계(세출)'!$A:$A, "재정문화위원회", '4 기타특별회계(세출)'!$B:$B, "*특별회계", '4 기타특별회계(세출)'!$H:$H,"<0") -> 0 | H12: =SUMIFS('4 기타특별회계(세출)'!$H:$H, '4 기타특별회계(세출)'!$A:$A, "재정문화위원회", '4 기타특별회계(세출)'!$B:$B, "*특별회계", '4 기타특별회계(세출)'!$H:$H,">0") -> 0 | I12: =-(G12+H12) -> 0 | J12: =F12+G12+H12+I12 -> 25141588 | K12: =IF(E12=J12,"O","X") -> O | M12: =IF(G12=-(H12+I12),"O","X") -> O
A13: 행정복지위원회 | B13: 소계 | C13: =C14+C15 -> 1479428532 | D13: =SUM(D14:D15) -> 0 | E13: =E14+E15 -> 1479428532 | F13: =F14+F15 -> 1479428532 | G13: =G14+G15 -> 0 | H13: =H14+H15 -> 0 | I13: =I14+I15 -> 0 | J13: =SUM(J14:J15) -> 1479428532 | K13: =IF(E13=J13,"O","X") -> O | M13: =IF(G13=-(H13+I13),"O","X") -> O
B14: 일반회계 | C14: ='2026 제2회 추경'!I8 -> 1458109719 | D14: =SUMIFS('1 일반회계(세입)'!$H:$H, '1 일반회계(세입)'!$A:$A,"행정복지위원회") -> 0 | E14: =C14-D14 -> 1458109719 | F14: =C14 -> 1458109719 | G14: =SUMIFS('2 일반회계(세출)'!$H:$H, '2 일반회계(세출)'!$A:$A,"행정복지위원회", '2 일반회계(세출)'!$B:$B, "일반회계",'2 일반회계(세출)'!$H:$H,"<0") -> 0 | H14: =SUMIFS('2 일반회계(세출)'!$H:$H, '2 일반회계(세출)'!$A:$A,"행정복지위원회", '2 일반회계(세출)'!$B:$B, "일반회계",'2 일반회계(세출)'!$H:$H,">0") -> 0 | I14: =-(G14+H14) -> 0 | J14: =F14+G14+H14+I14 -> 1458109719 | K14: =IF(E14=J14,"O","X") -> O | M14: =IF(G14=-(H14+I14),"O","X") -> O
B15: 기타특별회계 | C15: ='2026 제2회 추경'!J8 -> 21318813 | D15: =SUMIFS('3 기타특별회계(세입)'!$H:$H, '3 기타특별회계(세입)'!$A:$A,"행정복지위원회", '3 기타특별회계(세입)'!$B:$B, "**특별회계") -> 0 | E15: =C15-D15 -> 21318813 | F15: =C15 -> 21318813 | G15: =SUMIFS('4 기타특별회계(세출)'!$H:$H, '4 기타특별회계(세출)'!$A:$A, "행정복지위원회", '4 기타특별회계(세출)'!$B:$B, "*특별회계", '4 기타특별회계(세출)'!$H:$H,"<0") -> 0 | H15: =SUMIFS('4 기타특별회계(세출)'!$H:$H, '4 기타특별회계(세출)'!$A:$A, "행정복지위원회", '4 기타특별회계(세출)'!$B:$B, "*특별회계", '4 기타특별회계(세출)'!$H:$H,">0") -> 0 | I15: =-(G15+H15) -> 0 | J15: =F15+G15+H15+I15 -> 21318813 | K15: =IF(E15=J15,"O","X") -> O | M15: =IF(G15=-(H15+I15),"O","X") -> O
A16: 도시교통위원회 | B16: 소계 | C16: =C17+C18+C19 -> 750876191 | D16: =SUM(D17:D19) -> 0 | E16: =E17+E18+E19 -> 750876191 | F16: =F17+F18+F19 -> 750876191 | G16: =G17+G18+G19 -> -25980 | H16: =H17+H18+H19 -> 0 | I16: =I17+I18+I19 -> 25980 | J16: =SUM(J17:J19) -> 750876191 | K16: =IF(E16=J16,"O","X") -> O | M16: =IF(G16=-(H16+I16),"O","X") -> O
B17: 일반회계 | C17: ='2026 제2회 추경'!I9 -> 381955104 | D17: =SUMIFS('1 일반회계(세입)'!$H:$H, '1 일반회계(세입)'!$A:$A,"도시교통위원회") -> 0 | E17: =C17-D17 -> 381955104 | F17: =C17 -> 381955104 | G17: =SUMIFS('2 일반회계(세출)'!$H:$H, '2 일반회계(세출)'!$A:$A,"도시교통위원회", '2 일반회계(세출)'!$B:$B, "일반회계",'2 일반회계(세출)'!$H:$H,"<0") -> -25980 | H17: =SUMIFS('2 일반회계(세출)'!$H:$H, '2 일반회계(세출)'!$A:$A,"도시교통위원회", '2 일반회계(세출)'!$B:$B, "일반회계",'2 일반회계(세출)'!$H:$H,">0") -> 0 | I17: =-(G17+H17) -> 25980 | J17: =F17+G17+H17+I17 -> 381955104 | K17: =IF(E17=J17,"O","X") -> O | M17: =IF(G17=-(H17+I17),"O","X") -> O
B18: 공기업특별회계 | C18: ='2026 제2회 추경'!J11 -> 229979047 | D18: =SUMIFS('5 공기업특별회계(세입)'!$H:$H, '5 공기업특별회계(세입)'!$A:$A,"도시교통위원회", '5 공기업특별회계(세입)'!$B:$B, "**특별회계") -> 0 | E18: =C18-D18 -> 229979047 | F18: =C18 -> 229979047 | G18: =SUMIFS('6 공기업특별회계(세출)'!$H:$H, '6 공기업특별회계(세출)'!$B:$B,"상수도특별회계",'6 공기업특별회계(세출)'!$H:$H,"<0")+SUMIFS('6 공기업특별회계(세출)'!$H:$H, '6 공기업특별회계(세출)'!$B:$B,"하수도특별회계",'6 공기업특별회계(세출)'!$H:$H, "<0") -> 0 | H18: =SUMIFS('6 공기업특별회계(세출)'!$H:$H, '6 공기업특별회계(세출)'!$B:$B,"상수도특별회계",'6 공기업특별회계(세출)'!$H:$H,">0")+SUMIFS('6 공기업특별회계(세출)'!$H:$H, '6 공기업특별회계(세출)'!$B:$B,"하수도특별회계",'6 공기업특별회계(세출)'!$H:$H, ">0") -> 0 | I18: =-(G18+H18) -> 0 | J18: =F18+G18+H18+I18 -> 229979047 | K18: =IF(E18=J18,"O","X") -> O | M18: =IF(G18=-(H18+I18),"O","X") -> O
B19: 기타특별회계 | C19: ='2026 제2회 추경'!J10 -> 138942040 | D19: =SUMIFS('3 기타특별회계(세입)'!$H:$H, '3 기타특별회계(세입)'!$A:$A,"도시교통위원회", '3 기타특별회계(세입)'!$B:$B, "**특별회계") -> 0 | E19: =C19-D19 -> 138942040 | F19: =C19 -> 138942040 | G19: =SUMIFS('4 기타특별회계(세출)'!$H:$H, '4 기타특별회계(세출)'!$A:$A, "도시교통위원회", '4 기타특별회계(세출)'!$B:$B, "*특별회계", '4 기타특별회계(세출)'!$H:$H,"<0") -> 0 | H19: =SUMIFS('4 기타특별회계(세출)'!$H:$H, '4 기타특별회계(세출)'!$A:$A, "도시교통위원회", '4 기타특별회계(세출)'!$B:$B, "*특별회계", '4 기타특별회계(세출)'!$H:$H,">0") -> 0 | I19: =-(G19+H19) -> 0 | J19: =F19+G19+H19+I19 -> 138942040 | K19: =IF(E19=J19,"O","X") -> O | M19: =IF(G19=-(H19+I19),"O","X") -> O

Sheet 1 일반회계(세입)
A1: 2025년 제3회 추가경정예산안 (일반회계) 세입 예산 조정(안)
M2: (단위 : 천원)
A3: 위원회 | B3: 회계 구분 | C3: 소관부서 | D3: 예산과목 | E3: 예산안 페이지 | F3: 사 업 명 | G3: 예산(안)액 | H3: 상임위원회 예비심사 | K3: 예산결산위원회 종합심사 | M3: 부대의견
D4: 통계목 | H4: 삭감(조정)액 | I4: 수정예산액 | J4: 삭감(조정) 사유 | K4: 삭감(조정)액 | L4: 수정예산액
A5: 합계 | G5: =SUMIFS(G:G,$B:$B,"계") -> 0 | H5: =SUMIFS(H:H,$B:$B,"계") -> 0 | I5: =SUMIFS(I:I,$B:$B,"계") -> 0 | K5: =SUMIFS(K:K,$B:$B,"계") -> 0 | L5: =SUMIFS(L:L,$B:$B,"계") -> 0
A6: 의회운영위원회 | B6: 계 | G6: =SUMIFS(G:G, $A:$A,"의회운영위원회", $B:$B, "일반회계") -> 0 | H6: =SUMIFS(H:H, $A:$A,"의회운영위원회", $B:$B, "일반회계") -> 0 | I6: =SUMIFS(I:I, $A:$A,"의회운영위원회", $B:$B, "일반회계") -> 0 | K6: =SUMIFS(K:K, $A:$A,"의회운영위원회", $B:$B, "일반회계") -> 0 | L6: =SUMIFS(L:L, $A:$A,"의회운영위원회", $B:$B, "일반회계") -> 0
A7: 의회운영위원회 | B7: 일반회계 | I7: =G7+H7 -> 0 | L7: =G7+K7 -> 0
A8: 의회운영위원회 | B8: 일반회계 | I8: =G8+H8 -> 0 | L8: =G8+K8 -> 0
A9: 의회운영위원회 | B9: 일반회계 | I9: =G9+H9 -> 0 | L9: =G9+K9 -> 0
A10: 의회운영위원회 | B10: 일반회계 | I10: =G10+H10 -> 0 | L10: =G10+K10 -> 0
A11: 의회운영위원회 | B11: 일반회계 | I11: =G11+H11 -> 0 | L11: =G11+K11 -> 0
A12: 의회운영위원회 | B12: 일반회계 | I12: =G12+H12 -> 0 | L12: =G12+K12 -> 0
A13: 의회운영위원회 | B13: 일반회계 | I13: =G13+H13 -> 0 | L13: =G13+K13 -> 0
A14: 의회운영위원회 | B14: 일반회계 | I14: =G14+H14 -> 0 | L14: =G14+K14 -> 0
A15: 의회운영위원회 | B15: 일반회계 | I15: =G15+H15 -> 0 | L15: =G15+K15 -> 0
A16: 재정문화위원회 | B16: 계 | G16: =SUMIFS(G:G, $A:$A,"재정문화위원회", $B:$B, "일반회계") -> 0 | H16: =SUMIFS(H:H, $A:$A,"재정문화위원회", $B:$B, "일반회계") -> 0 | I16: =SUMIFS(I:I, $A:$A,"재정문화위원회", $B:$B, "일반회계") -> 0 | K16: =SUMIFS(K:K, $A:$A,"재정문화위원회", $B:$B, "일반회계") -> 0 | L16: =SUMIFS(L:L, $A:$A,"재정문화위원회", $B:$B, "일반회계") -> 0
A17: 재정문화위원회 | B17: 일반회계 | I17: =G17+H17 -> 0 | L17: =G17+K17 -> 0
A18: 재정문화위원회 | B18: 일반회계 | I18: =G18+H18 -> 0 | L18: =G18+K18 -> 0
A19: 재정문화위원회 | B19: 일반회계 | I19: =G19+H19 -> 0 | L19: =G19+K19 -> 0
A20: 재정문화위원회 | B20: 일반회계 | I20: =G20+H20 -> 0 | L20: =G20+K20 -> 0
A21: 재정문화위원회 | B21: 일반회계 | I21: =G21+H21 -> 0 | L21: =G21+K21 -> 0
A22: 재정문화위원회 | B22: 일반회계 | I22: =G22+H22 -> 0 | L22: =G22+K22 -> 0
A23: 재정문화위원회 | B23: 일반회계 | I23: =G23+H23 -> 0 | L23: =G23+K23 -> 0
A24: 재정문화위원회 | B24: 일반회계 | I24: =G24+H24 -> 0 | L24: =G24+K24 -> 0
A25: 재정문화위원회 | B25: 일반회계 | I25: =G25+H25 -> 0 | L25: =G25+K25 -> 0
A26: 재정문화위원회 | B26: 일반회계 | I26: =G26+H26 -> 0 | L26: =G26+K26 -> 0
A27: 행정복지위원회 | B27: 계 | G27: =SUMIFS(G:G, $A:$A,"행정복지위원회", $B:$B, "일반회계") -> 0 | H27: =SUMIFS(H:H, $A:$A,"행정복지위원회", $B:$B, "일반회계") -> 0 | I27: =SUMIFS(I:I, $A:$A,"행정복지위원회", $B:$B, "일반회계") -> 0 | K27: =SUMIFS(K:K, $A:$A,"행정복지위원회", $B:$B, "일반회계") -> 0 | L27: =SUMIFS(L:L, $A:$A,"행정복지위원회", $B:$B, "일반회계") -> 0
A28: 행정복지위원회 | B28: 일반회계 | I28: =G28+H28 -> 0 | L28: =G28+K28 -> 0
A29: 행정복지위원회 | B29: 일반회계 | I29: =G29+H29 -> 0 | L29: =G29+K29 -> 0
A30: 행정복지위원회 | B30: 일반회계 | I30: =G30+H30 -> 0 | L30: =G30+K30 -> 0
A31: 행정복지위원회 | B31: 일반회계 | I31: =G31+H31 -> 0 | L31: =G31+K31 -> 0
A32: 행정복지위원회 | B32: 일반회계 | I32: =G32+H32 -> 0 | L32: =G32+K32 -> 0
A33: 행정복지위원회 | B33: 일반회계 | I33: =G33+H33 -> 0 | L33: =G33+K33 -> 0
A34: 행정복지위원회 | B34: 일반회계 | I34: =G34+H34 -> 0 | L34: =G34+K34 -> 0
A35: 행정복지위원회 | B35: 일반회계 | I35: =G35+H35 -> 0 | L35: =G35+K35 -> 0
A36: 행정복지위원회 | B36: 일반회계 | I36: =G36+H36 -> 0 | L36: =G36+K36 -> 0
A37: 행정복지위원회 | B37: 일반회계 | I37: =G37+H37 -> 0 | L37: =G37+K37 -> 0
A38: 도시교통위원회 | B38: 계 | G38: =SUMIFS(G:G, $A:$A,"도시교통위원회", $B:$B, "일반회계") -> 0 | H38: =SUMIFS(H:H, $A:$A,"도시교통위원회", $B:$B, "일반회계") -> 0 | I38: =SUMIFS(I:I, $A:$A,"도시교통위원회", $B:$B, "일반회계") -> 0 | K38: =SUMIFS(K:K, $A:$A,"도시교통위원회", $B:$B, "일반회계") -> 0 | L38: =SUMIFS(L:L, $A:$A,"도시교통위원회", $B:$B, "일반회계") -> 0
A39: 도시교통위원회 | B39: 일반회계 | I39: =G39+H39 -> 0 | L39: =G39+K39 -> 0
A40: 도시교통위원회 | B40: 일반회계 | I40: =G40+H40 -> 0 | L40: =G40+K40 -> 0
A41: 도시교통위원회 | B41: 일반회계 | I41: =G41+H41 -> 0 | L41: =G41+K41 -> 0
A42: 도시교통위원회 | B42: 일반회계 | I42: =G42+H42 -> 0 | L42: =G42+K42 -> 0
A43: 도시교통위원회 | B43: 일반회계 | I43: =G43+H43 -> 0 | L43: =G43+K43 -> 0
A44: 도시교통위원회 | B44: 일반회계 | I44: =G44+H44 -> 0 | L44: =G44+K44 -> 0
A45: 도시교통위원회 | B45: 일반회계 | I45: =G45+H45 -> 0 | L45: =G45+K45 -> 0
A46: 도시교통위원회 | B46: 일반회계 | I46: =G46+H46 -> 0 | L46: =G46+K46 -> 0
A47: 도시교통위원회 | B47: 일반회계 | I47: =G47+H47 -> 0 | L47: =G47+K47 -> 0
A48: 도시교통위원회 | B48: 일반회계 | I48: =G48+H48 -> 0 | L48: =G48+K48 -> 0

Sheet 2 일반회계(세출)
A1: 2026년 제2회 추가경정예산안 (일반회계) 세출 예산 조정(안)
M2: (단위 : 천원)
A3: 위원회 | B3: 회계 구분 | C3: 소관부서 | D3: 통계목 | E3: 예산안 페이지 | F3: 부 기 명 | G3: 예산(안)액 | H3: 상임위원회 예비심사 | K3: 예산결산위원회 종합심사 | M3: 부대의견
H4: 삭감(조정)액 | I4: 수정예산액 | J4: 삭감(조정) 사유 | K4: 삭감(조정)액 | L4: 수정예산액
A5: 합계 | G5: =SUMIFS(G:G,$B:$B,"계") -> 25980 | H5: =SUMIFS(H:H,$B:$B,"계") -> -25980 | I5: =SUMIFS(I:I,$B:$B,"계") -> 0 | K5: =SUMIFS(K:K,$B:$B,"계") -> 0 | L5: =SUMIFS(L:L,$B:$B,"계") -> 25980
A6: 의회운영위원회 | B6: 계 | G6: =SUMIFS(G:G, $A:$A,"의회운영위원회", $B:$B, "일반회계") -> 0 | H6: =SUMIFS(H:H, $A:$A,"의회운영위원회", $B:$B, "일반회계") -> 0 | I6: =SUMIFS(I:I, $A:$A,"의회운영위원회", $B:$B, "일반회계") -> 0 | K6: =SUMIFS(K:K, $A:$A,"의회운영위원회", $B:$B, "일반회계") -> 0 | L6: =SUMIFS(L:L, $A:$A,"의회운영위원회", $B:$B, "일반회계") -> 0
A7: 의회운영위원회 | B7: 일반회계 | I7: =G7+H7 -> 0 | L7: =G7+K7 -> 0
A8: 의회운영위원회 | B8: 일반회계 | I8: =G8+H8 -> 0 | L8: =G8+K8 -> 0
A9: 의회운영위원회 | B9: 일반회계 | I9: =G9+H9 -> 0 | L9: =G9+K9 -> 0
A10: 의회운영위원회 | B10: 일반회계 | I10: =G10+H10 -> 0 | L10: =G10+K10 -> 0
A11: 의회운영위원회 | B11: 일반회계 | I11: =G11+H11 -> 0 | L11: =G11+K11 -> 0
A12: 의회운영위원회 | B12: 일반회계 | I12: =G12+H12 -> 0 | L12: =G12+K12 -> 0
A13: 의회운영위원회 | B13: 일반회계 | I13: =G13+H13 -> 0 | L13: =G13+K13 -> 0
A14: 의회운영위원회 | B14: 일반회계 | I14: =G14+H14 -> 0 | L14: =G14+K14 -> 0
A15: 의회운영위원회 | B15: 일반회계 | I15: =G15+H15 -> 0 | L15: =G15+K15 -> 0
A16: 재정문화위원회 | B16: 계 | G16: =SUMIFS(G:G, $A:$A,"재정문화위원회", $B:$B, "일반회계") -> 0 | H16: =SUMIFS(H:H, $A:$A,"재정문화위원회", $B:$B, "일반회계") -> 0 | I16: =SUMIFS(I:I, $A:$A,"재정문화위원회", $B:$B, "일반회계") -> 0 | K16: =SUMIFS(K:K, $A:$A,"재정문화위원회", $B:$B, "일반회계") -> 0 | L16: =SUMIFS(L:L, $A:$A,"재정문화위원회", $B:$B, "일반회계") -> 0
A17: 재정문화위원회 | B17: 일반회계 | I17: =G17+H17 -> 0 | L17: =G17+K17 -> 0
A18: 재정문화위원회 | B18: 일반회계 | I18: =G18+H18 -> 0 | L18: =G18+K18 -> 0
A19: 재정문화위원회 | B19: 일반회계 | I19: =G19+H19 -> 0 | L19: =G19+K19 -> 0
A20: 재정문화위원회 | B20: 일반회계 | I20: =G20+H20 -> 0 | L20: =G20+K20 -> 0
A21: 재정문화위원회 | B21: 일반회계 | I21: =G21+H21 -> 0 | L21: =G21+K21 -> 0
A22: 재정문화위원회 | B22: 일반회계 | I22: =G22+H22 -> 0 | L22: =G22+K22 -> 0
A23: 재정문화위원회 | B23: 일반회계 | I23: =G23+H23 -> 0 | L23: =G23+K23 -> 0
A24: 재정문화위원회 | B24: 일반회계 | I24: =G24+H24 -> 0 | L24: =G24+K24 -> 0
A25: 재정문화위원회 | B25: 일반회계 | I25: =G25+H25 -> 0 | L25: =G25+K25 -> 0
A26: 재정문화위원회 | B26: 일반회계 | I26: =G26+H26 -> 0 | L26: =G26+K26 -> 0
A27: 행정복지위원회 | B27: 계 | G27: =SUMIFS(G:G, $A:$A,"행정복지위원회", $B:$B, "일반회계") -> 0 | H27: =SUMIFS(H:H, $A:$A,"행정복지위원회", $B:$B, "일반회계") -> 0 | I27: =SUMIFS(I:I, $A:$A,"행정복지위원회", $B:$B, "일반회계") -> 0 | K27: =SUMIFS(K:K, $A:$A,"행정복지위원회", $B:$B, "일반회계") -> 0 | L27: =SUMIFS(L:L, $A:$A,"행정복지위원회", $B:$B, "일반회계") -> 0
A28: 행정복지위원회 | B28: 일반회계 | I28: =G28+H28 -> 0 | L28: =G28+K28 -> 0
A29: 행정복지위원회 | B29: 일반회계 | I29: =G29+H29 -> 0 | L29: =G29+K29 -> 0
A30: 행정복지위원회 | B30: 일반회계 | I30: =G30+H30 -> 0 | L30: =G30+K30 -> 0
A31: 행정복지위원회 | B31: 일반회계 | I31: =G31+H31 -> 0 | L31: =G31+K31 -> 0
A32: 행정복지위원회 | B32: 일반회계 | I32: =G32+H32 -> 0 | L32: =G32+K32 -> 0
A33: 행정복지위원회 | B33: 일반회계 | I33: =G33+H33 -> 0 | L33: =G33+K33 -> 0
A34: 행정복지위원회 | B34: 일반회계 | I34: =G34+H34 -> 0 | L34: =G34+K34 -> 0
A35: 행정복지위원회 | B35: 일반회계 | I35: =G35+H35 -> 0 | L35: =G35+K35 -> 0
A36: 행정복지위원회 | B36: 일반회계 | I36: =G36+H36 -> 0 | L36: =G36+K36 -> 0
A37: 행정복지위원회 | B37: 일반회계 | I37: =G37+H37 -> 0 | L37: =G37+K37 -> 0
A38: 도시교통위원회 | B38: 계 | G38: =SUMIFS(G:G, $A:$A,"도시교통위원회", $B:$B, "일반회계") -> 25980 | H38: =SUMIFS(H:H, $A:$A,"도시교통위원회", $B:$B, "일반회계") -> -25980 | I38: =SUMIFS(I:I, $A:$A,"도시교통위원회", $B:$B, "일반회계") -> 0 | K38: =SUMIFS(K:K, $A:$A,"도시교통위원회", $B:$B, "일반회계") -> 0 | L38: =SUMIFS(L:L, $A:$A,"도시교통위원회", $B:$B, "일반회계") -> 25980
A39: 도시교통위원회 | B39: 일반회계 | C39: 자원순환과 | D39: 자산및물품취득비 | E39: 589 | F39: 불법투기 감시용 이동형 CCTV 설치 | G39: 25980 | H39: -25980 | I39: =G39+H39 -> 0 | J39: ○ 불법투기 감시 cctv 6대의 소규모 설치는 사업의 실효성 확보에 한계가 있으므로, 취약지역 분석 및 종합계획 수립 후 내년도 본예산에 확대 반영하고자 함. | L39: =G39+K39 -> 25980

Sheet 행정복지세출(특별회계)
B1: 2018년도 본예산 세출 예산 조정(안)
A2: 행정복지위원회소관(특별회계) | J2: (단위 : 천원)
A3: 회계구분 | B3: 소관부서 | C3: 예산과목 | D3: 예산안 페이지 | E3: 사업명 | F3: 예산(안)액 | G3: 상임위원회 예비심사 | I3: 수정예산액 | J3: 부대의견
C4: 통계목 | G4: 삭감(조정)액 | H4: 삭감(조정) 사유
A5: 합계 | F5: =SUM(F6:F14) -> 0 | G5: =SUM(G6:G14) -> 0 | H5: =SUM(H6:H14) -> 0 | I5: =SUM(I6:I14) -> 0
A6: 기타 특별회계 | F6: =SUM(F7:F14) -> 0 | G6: =SUM(G7:G14) -> 0 | I6: =F6-G6 -> 0
A7: 공유재산특별회계 | B7: 복지정책과 | I7: =F7-G7 -> 0
A8: 의료급여기금특별회계 | I8: =F8-G8 -> 0
B9: 복지정책과 | I9: =F9-G9 -> 0
I10: =F10-G10 -> 0
B11: 복지정책과 | I11: =F11-G11 -> 0
I12: =F12-G12 -> 0
B13: 자원순환과 | I13: =F13-G13 -> 0
I14: =F14-G14 -> 0

Sheet 도시교통(일반회계)
A1: 도시교통위원회(일반회계) | H1: (단위 : 천원)
A2: 소관부서 | B2: 예산과목 | C2: 사업명 | D2: 예산(안)액 | E2: 예산결산특별위원회 종합심사 | G2: 수정예산액 | H2: 부대의견 | I2: 비고
B3: 통계목 (page ) | E3: 삭감(조정)액 | F3: 삭감(조정) 사유
A4: 합계 | E4: =SUM(E6:E20) -> 0
C6: ○ | G6: =D6-E6 -> 0
G7: =D7-E7 -> 0
G8: =D8-E8 -> 0
G9: =D9-E9 -> 0
G10: =D10-E10 -> 0

Sheet 도시교통(기타득별-공유재산관리)
A1: 도시교통위원회(기타특별-공유재산관리) | H1: (단위 : 천원)
A2: 소관부서 | B2: 예산과목 | C2: 사업명 | D2: 요구액 | E2: 예산결산특별위원회 종합심사 | G2: 수정예산액 | H2: 부대의견 | I2: 비고
B3: 통계목 (page ) | E3: 삭감(조정)액 | F3: 삭감(조정) 사유
A4: 합계 | E4: =SUM(E6:E17) -> 0
C6: ○ | G6: =D6-E6 -> 0
G7: =D7-E7 -> 0
G8: =D8-E8 -> 0
G9: =D9-E9 -> 0
G10: =D10-E10 -> 0

Sheet 도시교통(기타득별-장기미집행)
A1: 도시교통위원회(기타특별-장기미집행) | H1: (단위 : 천원)
A2: 소관부서 | B2: 예산과목 | C2: 사업명 | D2: 요구액 | E2: 예산결산특별위원회 종합심사 | G2: 수정예산액 | H2: 부대의견 | I2: 비고
B3: 통계목 (page ) | E3: 삭감(조정)액 | F3: 삭감(조정) 사유
A4: 합계 | E4: =SUM(E6:E17) -> 0
C6: ○ | G6: =D6-E6 -> 0
G7: =D7-E7 -> 0
G8: =D8-E8 -> 0
G9: =D9-E9 -> 0
G10: =D10-E10 -> 0

Sheet 도시교통(기타득별-교통사업)
A1: 도시교통위원회(기타특별-교통사업) | H1: (단위 : 천원)
A2: 소관부서 | B2: 예산과목 | C2: 사업명 | D2: 요구액 | E2: 예산결산특별위원회 종합심사 | G2: 수정예산액 | H2: 부대의견 | I2: 비고
B3: 통계목 (page ) | E3: 삭감(조정)액 | F3: 삭감(조정) 사유
A4: 합계 | E4: =SUM(E6:E17) -> 0
C6: ○ | G6: =D6-E6 -> 0
G7: =D7-E7 -> 0
G8: =D8-E8 -> 0
G9: =D9-E9 -> 0
G10: =D10-E10 -> 0

Sheet 도시교통(기타특별-철도건설)
A1: 도시교통위원회(기타특별-철도건설) | H1: (단위 : 천원)
A2: 소관부서 | B2: 예산과목 | C2: 사업명 | D2: 요구액 | E2: 예산결산특별위원회 종합심사 | G2: 수정예산액 | H2: 부대의견 | I2: 비고
B3: 통계목 (page ) | E3: 삭감(조정)액 | F3: 삭감(조정) 사유
A4: 합계 | E4: =SUM(E6:E17) -> 0
C6: ○ | G6: =D6-E6 -> 0
G7: =D7-E7 -> 0
G8: =D8-E8 -> 0
G9: =D9-E9 -> 0
G10: =D10-E10 -> 0

Sheet 도시교통(기타득별-폐기물처리시설
A1: 도시교통위원회(기타특별-폐기물처리시설) | H1: (단위 : 천원)
A2: 소관부서 | B2: 예산과목 | C2: 사업명 | D2: 요구액 | E2: 예산결산특별위원회 종합심사 | G2: 수정예산액 | H2: 부대의견 | I2: 비고
B3: 통계목 (page ) | E3: 삭감(조정)액 | F3: 삭감(조정) 사유
A4: 합계 | E4: =SUM(E6:E17) -> 0
C6: ○ | G6: =D6-E6 -> 0
G7: =D7-E7 -> 0
G8: =D8-E8 -> 0
G9: =D9-E9 -> 0
G10: =D10-E10 -> 0

Sheet 도시교통(기타득별-도시재정비)
A1: 도시교통위원회(기타특별-도시재정비) | H1: (단위 : 천원)
A2: 소관부서 | B2: 예산과목 | C2: 사업명 | D2: 요구액 | E2: 예산결산특별위원회 종합심사 | G2: 수정예산액 | H2: 부대의견 | I2: 비고
B3: 통계목 (page ) | E3: 삭감(조정)액 | F3: 삭감(조정) 사유
A4: 합계 | E4: =SUM(E6:E17) -> 0
C6: ○ | G6: =D6-E6 -> 0
G7: =D7-E7 -> 0
G8: =D8-E8 -> 0
G9: =D9-E9 -> 0
G10: =D10-E10 -> 0

Sheet 도시교통(기타득별-도시개발)
A1: 도시교통위원회(기타특별-도시개발) | H1: (단위 : 천원)
A2: 소관부서 | B2: 예산과목 | C2: 사업명 | D2: 요구액 | E2: 예산결산특별위원회 종합심사 | G2: 수정예산액 | H2: 부대의견 | I2: 비고
B3: 통계목 (page ) | E3: 삭감(조정)액 | F3: 삭감(조정) 사유
A4: 합계 | E4: =SUM(E6:E17) -> 0
C6: ○ | G6: =D6-E6 -> 0
G7: =D7-E7 -> 0
G8: =D8-E8 -> 0
G9: =D9-E9 -> 0
G10: =D10-E10 -> 0

Sheet 도시교통(기타득별-기반시설)
A1: 도시교통위원회(기타특별-기반시설) | H1: (단위 : 천원)
A2: 소관부서 | B2: 예산과목 | C2: 사업명 | D2: 요구액 | E2: 예산결산특별위원회 종합심사 | G2: 수정예산액 | H2: 부대의견 | I2: 비고
B3: 통계목 (page ) | E3: 삭감(조정)액 | F3: 삭감(조정) 사유
A4: 합계 | E4: =SUM(E6:E17) -> 0
C6: ○ | G6: =D6-E6 -> 0
G7: =D7-E7 -> 0
G8: =D8-E8 -> 0
G9: =D9-E9 -> 0
G10: =D10-E10 -> 0

Sheet 3 기타특별회계(세입)
A1: 2025년 제3회 추가경정예산안 (기타특별회계) 세입 예산 조정(안) | N1: 특별회계명
M2: (단위 : 천원) | N2: 공유재산관리
A3: 위원회 | B3: 회계 구분 | C3: 소관부서 | D3: 예산과목 | E3: 예산안 페이지 | F3: 사 업 명 | G3: 예산(안)액 | H3: 상임위원회 예비심사 | K3: 예산결산위원회 종합심사 | M3: 부대의견 | N3: 의료급여기금
D4: 통계목 | H4: 삭감(조정)액 | I4: 수정예산액 | J4: 삭감(조정) 사유 | K4: 삭감(조정)액 | L4: 수정예산액 | N4: 교통사업
A5: 합계 | B5: 기타특별회계 | G5: =SUMIFS(G:G,$B:$B,"계") -> 0 | H5: =SUMIFS(H:H,$B:$B,"계") -> 0 | I5: =SUMIFS(I:I,$B:$B,"계") -> 0 | K5: =SUMIFS(K:K,$B:$B,"계") -> 0 | L5: =SUMIFS(L:L,$B:$B,"계") -> 0 | N5: 철도건설사업
A6: 재정문화위원회 | B6: 계 | G6: =SUM(G7:G8) -> 0 | H6: =SUM(H7:H8) -> 0 | I6: =SUM(I7:I8) -> 0 | K6: =SUM(K7:K8) -> 0 | L6: =SUM(L7:L8) -> 0 | N6: 폐기물처리시설
A7: 재정문화위원회 | B7: 공유재산관리특별회계 | I7: =G7+H7 -> 0 | L7: =G7+K7 -> 0 | N7: 도시개발
A8: 재정문화위원회 | B8: 00특별회계 | I8: =G8+H8 -> 0 | L8: =G8+K8 -> 0 | N8: 공공시설등 설치
A9: 행정복지위원회 | B9: 계 | G9: =SUM(G10:G11) -> 0 | H9: =SUM(H10:H11) -> 0 | I9: =SUM(I10:I11) -> 0 | K9: =SUM(K10:K11) -> 0 | L9: =SUM(L10:L11) -> 0 | N9: 문화시설건립
A10: 행정복지위원회 | B10: 의료급여기금특별회계 | I10: =G10+H10 -> 0 | L10: =G10+K10 -> 0 | N10: 도시재생
A11: 행정복지위원회 | B11: 00특별회계 | I11: =G11+H11 -> 0 | L11: =G11+K11 -> 0 | N11: 성골지구도시개발
A12: 도시교통위원회 | B12: 계 | G12: =SUM(G13:G14) -> 0 | H12: =SUM(H13:H14) -> 0 | I12: =SUM(I13:I14) -> 0 | K12: =SUM(K13:K14) -> 0 | L12: =SUM(L13:L14) -> 0 | N12: 발전소주변지역지원
A13: 도시교통위원회 | B13: 도시개발특별회계 | I13: =G13+H13 -> 0 | L13: =G13+K13 -> 0
A14: 도시교통위원회 | B14: 00특별회계 | I14: =G14+H14 -> 0 | L14: =G14+K14 -> 0

Sheet 4 기타특별회계(세출)
A1: 2026년 제2회 추가경정예산안 (기타특별회계) 세출 예산 조정(안) | N1: 특별회계명
M2: (단위 : 천원) | N2: 공유재산관리
A3: 위원회 | B3: 회계 구분 | C3: 소관부서 | D3: 통계목 | E3: 예산안 페이지 | F3: 부 기 명 | G3: 예산(안)액 | H3: 상임위원회 예비심사 | K3: 예산결산위원회 종합심사 | M3: 부대의견 | N3: 의료급여기금
H4: 삭감(조정)액 | I4: 수정예산액 | J4: 삭감(조정) 사유 | K4: 삭감(조정)액 | L4: 수정예산액 | N4: 교통사업
A5: 합계 | B5: 기타특별회계 | G5: =SUMIFS(G:G,$B:$B,"계") -> 0 | H5: =SUMIFS(H:H,$B:$B,"계") -> 0 | I5: =SUMIFS(I:I,$B:$B,"계") -> 0 | K5: =SUMIFS(K:K,$B:$B,"계") -> 0 | L5: =SUMIFS(L:L,$B:$B,"계") -> 0 | N5: 철도건설사업
A6: 재정문화위원회 | B6: 계 | G6: =SUM(G7:G7) -> 0 | H6: =SUM(H7:H7) -> 0 | I6: =SUM(I7:I7) -> 0 | K6: =SUM(K7:K7) -> 0 | L6: =SUM(L7:L7) -> 0 | N6: 폐기물처리시설
A7: 재정문화위원회 | B7: 공유재산관리특별회계 | I7: =G7+H7 -> 0 | L7: =G7+K7 -> 0 | N7: 도시개발
A8: 행정복지위원회 | B8: 계 | G8: =SUM(G9:G9) -> 0 | H8: =SUM(H9:H9) -> 0 | I8: =SUM(I9:I9) -> 0 | K8: =SUM(K9:K9) -> 0 | L8: =SUM(L9:L9) -> 0 | N8: 문화시설건립
A9: 행정복지위원회 | B9: 의료급여기금특별회계 | I9: =G9+H9 -> 0 | L9: =G9+K9 -> 0 | N9: 도시재생
A10: 도시교통위원회 | B10: 계 | G10: =SUM(G11:G13) -> 0 | H10: =SUM(H11:H13) -> 0 | I10: =SUM(I11:I13) -> 0 | K10: =SUM(K11:K13) -> 0 | L10: =SUM(L11:L13) -> 0 | N10: 발전소주변지역지원
A11: 도시교통위원회 | B11: 교통사업특별회계 | I11: =G11+H11 -> 0 | L11: =G11+K11 -> 0
A12: 도시교통위원회 | B12: 철도건설사업특별회계 | I12: =G12+H12 -> 0 | L12: =G12+K12 -> 0
A13: 도시교통위원회 | B13: 폐기물처리시설특별회계 | I13: =G13+H13 -> 0 | L13: =G13+K13 -> 0

Sheet 5 공기업특별회계(세입)
A1: 2025년 제3회 추가경정예산안 (공기업특별회계) 세입 예산 조정(안)
M2: (단위 : 천원)
A3: 위원회 | B3: 회계 구분 | C3: 소관부서 | D3: 예산과목 | E3: 예산안 페이지 | F3: 사 업 명 | G3: 예산(안)액 | H3: 상임위원회 예비심사 | K3: 예산결산위원회 종합심사 | M3: 부대의견
D4: 통계목 | H4: 삭감(조정)액 | I4: 수정예산액 | J4: 삭감(조정) 사유 | K4: 삭감(조정)액 | L4: 수정예산액
A5: 합계 | B5: 공기업특별회계 | G5: =SUMIFS(G:G,$B:$B,"* 계") -> 0 | H5: =SUMIFS(H:H,$B:$B,"* 계") -> 0 | I5: =SUMIFS(I:I,$B:$B,"* 계") -> 0 | K5: =SUMIFS(K:K,$B:$B,"* 계") -> 0 | L5: =SUMIFS(L:L,$B:$B,"* 계") -> 0
A6: 도시교통위원회 | B6: 상수도특별회계 계 | G6: =SUMIFS(G:G, $A:$A,"도시교통위원회", $B:$B, "상수도특별회계") -> 0 | H6: =SUMIFS(H:H, $A:$A,"도시교통위원회", $B:$B, "상수도특별회계") -> 0 | I6: =SUMIFS(I:I, $A:$A,"도시교통위원회", $B:$B, "상수도특별회계") -> 0 | K6: =SUMIFS(K:K, $A:$A,"도시교통위원회", $B:$B, "상수도특별회계") -> 0 | L6: =SUMIFS(L:L, $A:$A,"도시교통위원회", $B:$B, "상수도특별회계") -> 0
A7: 도시교통위원회 | B7: 상수도특별회계 | I7: =G7+H7 -> 0 | L7: =G7+K7 -> 0
A8: 도시교통위원회 | B8: 상수도특별회계 | I8: =G8+H8 -> 0 | L8: =G8+K8 -> 0
A9: 도시교통위원회 | B9: 상수도특별회계 | I9: =G9+H9 -> 0 | L9: =G9+K9 -> 0
A10: 도시교통위원회 | B10: 하수도특별회계 계 | G10: =SUMIFS(G:G, $A:$A,"도시교통위원회", $B:$B, "하수도특별회계") -> 0 | H10: =SUMIFS(H:H, $A:$A,"도시교통위원회", $B:$B, "하수도특별회계") -> 0 | I10: =SUMIFS(I:I, $A:$A,"도시교통위원회", $B:$B, "하수도특별회계") -> 0 | K10: =SUMIFS(K:K, $A:$A,"도시교통위원회", $B:$B, "하수도특별회계") -> 0 | L10: =SUMIFS(L:L, $A:$A,"도시교통위원회", $B:$B, "하수도특별회계") -> 0
A11: 도시교통위원회 | B11: 하수도특별회계 | I11: =G11+H11 -> 0 | L11: =G11+K11 -> 0
A12: 도시교통위원회 | B12: 하수도특별회계 | I12: =G12+H12 -> 0 | L12: =G12+K12 -> 0
A13: 도시교통위원회 | B13: 하수도특별회계 | I13: =G13+H13 -> 0 | L13: =G13+K13 -> 0

Sheet 6 공기업특별회계(세출)
A1: 2026년 제2회 추가경정예산안 (공기업특별회계) 세출 예산 조정(안)
M2: (단위 : 천원)
A3: 위원회 | B3: 회계 구분 | C3: 소관부서 | D3: 통계목 | E3: 예산안 페이지 | F3: 부 기 명 | G3: 예산(안)액 | H3: 상임위원회 예비심사 | K3: 예산결산위원회 종합심사 | M3: 부대의견
H4: 삭감(조정)액 | I4: 수정예산액 | J4: 삭감(조정) 사유 | K4: 삭감(조정)액 | L4: 수정예산액
A5: 합계 | B5: 공기업특별회계 | G5: =SUMIFS(G:G,$B:$B,"* 계") -> 0 | H5: =SUMIFS(H:H,$B:$B,"* 계") -> 0 | I5: =SUMIFS(I:I,$B:$B,"* 계") -> 0 | K5: =SUMIFS(K:K,$B:$B,"* 계") -> 0 | L5: =SUMIFS(L:L,$B:$B,"* 계") -> 0
A6: 도시교통위원회 | B6: 상수도특별회계 계 | G6: =SUMIFS(G:G, $A:$A,"도시교통위원회", $B:$B, "상수도특별회계") -> 0 | H6: =SUMIFS(H:H, $A:$A,"도시교통위원회", $B:$B, "상수도특별회계") -> 0 | I6: =SUMIFS(I:I, $A:$A,"도시교통위원회", $B:$B, "상수도특별회계") -> 0 | K6: =SUMIFS(K:K, $A:$A,"도시교통위원회", $B:$B, "상수도특별회계") -> 0 | L6: =SUMIFS(L:L, $A:$A,"도시교통위원회", $B:$B, "상수도특별회계") -> 0
A7: 도시교통위원회 | B7: 상수도특별회계 | I7: =G7+H7 -> 0 | L7: =G7+K7 -> 0
A8: 도시교통위원회 | B8: 상수도특별회계 | I8: =G8+H8 -> 0 | L8: =G8+K8 -> 0
A9: 도시교통위원회 | B9: 상수도특별회계 | I9: =G9+H9 -> 0 | L9: =G9+K9 -> 0
A10: 도시교통위원회 | B10: 하수도특별회계 계 | G10: =SUMIFS(G:G, $A:$A,"도시교통위원회", $B:$B, "하수도특별회계") -> 0 | H10: =SUMIFS(H:H, $A:$A,"도시교통위원회", $B:$B, "하수도특별회계") -> 0 | I10: =SUMIFS(I:I, $A:$A,"도시교통위원회", $B:$B, "하수도특별회계") -> 0 | K10: =SUMIFS(K:K, $A:$A,"도시교통위원회", $B:$B, "하수도특별회계") -> 0 | L10: =SUMIFS(L:L, $A:$A,"도시교통위원회", $B:$B, "하수도특별회계") -> 0
A11: 도시교통위원회 | B11: 하수도특별회계 | I11: =G11+H11 -> 0 | L11: =G11+K11 -> 0
A12: 도시교통위원회 | B12: 하수도특별회계 | I12: =G12+H12 -> 0 | L12: =G12+K12 -> 0
A13: 도시교통위원회 | B13: 하수도특별회계 | I13: =G13+H13 -> 0 | L13: =G13+K13 -> 0

Sheet 8 2026년 기금운영변경계획안
A1: 2026년 기금운용계획 변경안 조정내역(안)
M2: (단위 : 천원)
A3: 위원회 | B3: 회계 구분 | C3: 소관부서 | D3: 통계목 | E3: 계획안 페이지 | F3: 부 기 명 | G3: 예산(안)액 | H3: 상임위원회 예비심사 | K3: 예산결산위원회 종합심사 | M3: 부대의견
H4: 삭감(조정)액 | I4: 수정예산액 | J4: 삭감(조정) 사유 | K4: 삭감(조정)액 | L4: 수정예산액
A5: 합계 | B5: 기금 | G5: =SUMIFS(G:G,$B:$B,"* 계") -> 0 | H5: =SUMIFS(H:H,$B:$B,"* 계") -> 0 | I5: =SUMIFS(I:I,$B:$B,"* 계") -> 0 | K5: =SUMIFS(K:K,$B:$B,"* 계") -> 0 | L5: =SUMIFS(L:L,$B:$B,"* 계") -> 0
A6: 재정문화위원회 | B6: 계 | G6: =SUM(G7:G7) -> 0 | H6: =SUM(H7:H7) -> 0 | I6: =SUM(I7:I7) -> 0 | K6: =SUM(K7:K7) -> 0 | L6: =SUM(L7:L7) -> 0
A7: 재정문화위원회 | B7: 통합재정안정화기금 | I7: =G7+H7 -> 0 | L7: =G7+K7 -> 0
A8: 행정복지위원회 | B8: 계 | G8: =SUM(G9:G9) -> 0 | H8: =SUM(H9:H9) -> 0 | I8: =SUM(I9:I9) -> 0 | K8: =SUM(K9:K9) -> 0 | L8: =SUM(L9:L9) -> 0
A9: 행정복지위원회 | B9: 자활기금 | I9: =G9+H9 -> 0 | L9: =G9+K9 -> 0
A10: 도시교통위원회 | B10: 계 | G10: =SUM(G11:G12) -> 0 | H10: =SUM(H11:H12) -> 0 | I10: =SUM(I11:I12) -> 0 | K10: =SUM(K11:K12) -> 0 | L10: =SUM(L11:L12) -> 0
A11: 도시교통위원회 | B11: 부대이전및부지개발사업기금 | I11: =G11+H11 -> 0 | L11: =G11+K11 -> 0
A12: 도시교통위원회 | B12: 도시주거환경정비기금 | I12: =G12+H12 -> 0 | L12: =G12+K12 -> 0

Sheet 2026 제2회 추경
A1: 2026년 제2회 추가경정예산안 상임위별 현황
A2: 최종 수정일자:
F3: (단위: 천원) | K3: (단위: 천원)
A4: 소관 | B4: 부서명 | D4: 일반회계 | E4: 기타특별회계 | F4: 기금 | H4: 구 분 | I4: 일반회계(A) | J4: 특별회계(B) | K4: 기금(C) | M4: 합계(A+B)
A5: 본청 합계 | D5: =D6+D7 -> 1684014804 | E5: =E6+E7 -> 183538398 | F5: =F6+F7 -> 0 | H5: 합 계 | I5: =SUM(I6:I9) -> 2406842002 | J5: =SUM(J6:J9) -> 415381488 | K5: =SUM(K6:K9) -> 416976037 | M5: =SUM(I5,J5) -> 2822223490
A6: 의회 | B6: 의회사무국 | D6: 3338881 | H6: 의회운영 | I6: =D6 -> 3338881 | J6: =E6 -> 0 | K6: =F6 -> 0 | M6: =SUM(I6,J6) -> 3338881
A7: 소 계 | D7: =SUM(D8:D27) -> 1680675923 | E7: =SUM(E8:E26) -> 183538398 | F7: =SUM(F8:F27) -> 0 | H7: 재정문화 | I7: =D9+D10+D11+D12+D15+D18+D25+I16 -> 563438298 | J7: =E9+E10+E11+E12+E15+E18+E25 -> 25141588 | K7: =D31+D39 -> 382331989 | M7: =SUM(I7,J7) -> 588579886
A8: 행복 | C8: 소통담당관 | D8: 121515 | H8: 행정복지 | I8: =D8+D13+D14+D16+D17+D23+D24+J16 -> 1458109719 | J8: =E8+E13+E14+E16+E17+E23+E24+M16 -> 21318813 | K8: =D29+D32+D33+D34+D35+D40 -> 25297890 | M8: =SUM(I8,J8) -> 1479428532
A9: 재문 | C9: 전략담당관 | D9: 57259 | H9: 도시교통 | I9: =D19+D20+D21+D22+D26+K16 -> 381955104 | J9: =J10+J11 -> 368921087 | K9: =D30+D36+D37+D38 -> 9346158 | M9: =SUM(I9,J9) -> 750876191
A10: 재문 | C10: 홍보담당관 | D10: 2515284 | I10: 기타특별회계 | J10: =E19+E20+E21+E22+E26 -> 138942040 | K10: -
A11: 재문 | C11: 감사담당관 | D11: 99990 | I11: 공기업특별회계 | J11: =K22 -> 229979047 | K11: -
A12: 재문 | B12: 기획조정실 | D12: 300806169 | E12: 18468190 | I12: 특별회계 오차 | J12: =J9-J10-J11 -> 0
A13: 행복 | B13: 기획조정실 | D13: 11900917 | E13: 7496797 | P13: (단위: 천원)
A14: 행복 | B14: 행정안전국 | D14: 48916938 | H14: 구 분 | I14: 일반회계 | L14: 특별회계 | O14: 합 계
A15: 재문 | B15: 문화체육국 | D15: 133745115 | E15: 2322278 | I15: 재정문화 | J15: 행정복지 | K15: 도시교통 | L15: 재정문화 | M15: 행정복지 | N15: 도시교통 | O15: 일반회계 | P15: 특별회계
A16: 행복 | B16: 문화체육국 | D16: 1978868 | H16: 구 합계 | I16: =SUM(I17:I28) -> 8562292 | J16: =SUM(J17:J28) -> 689733697 | K16: =SUM(K17:K19) -> 24531209 | L16: =SUM(L17:L28) -> 0 | M16: =SUM(M17:M28) -> 1864043 | N16: =SUM(N17:N28) -> 0 | O16: =SUM(I16:K16) -> 722827198 | P16: =SUM(L16:N16) -> 1864043
A17: 행복 | B17: 복지국 | D17: 592477358 | E17: 11703162 | H17: 원미구 | I17: 3546881 | J17: 317183233 | K17: 10994368 | M17: 876346 | O17: =SUM(I17:K17) -> 331724482 | P17: =SUM(L17:N17) -> 876346
A18: 재문 | B18: 평생교육국 | D18: 57707736 | E18: 4351120 | H18: 소사구 | I18: 2773204 | J18: 207335495 | K18: 6252106 | M18: 553651 | O18: =SUM(I18:K18) -> 216360805 | P18: =SUM(L18:N18) -> 553651
A19: 도교 | B19: 도시국 | D19: 7957054 | E19: 16427405 | H19: 오정구 | I19: 2242207 | J19: 165214969 | K19: 7284735 | M19: 434046 | O19: =SUM(I19:K19) -> 174741911 | P19: =SUM(L19:N19) -> 434046
A20: 도교 | B20: 주택국 | D20: 65345251 | E20: 13317594
A21: 도교 | B21: 교통국 | D21: 145197451 | E21: 99158886
A22: 도교 | B22: 수도자원국 | D22: 117832196 | E22: 9928554 | I22: 공기업특별회계 소계 | K22: =SUM(K23:K26) -> 229979047
A23: 행복 | B23: 공원녹지국 | D23: 57564767 | E23: 254811 | I23: 상수도공기업 | J23: 수도행정과 | K23: 26000150
A24: 행복 | B24: 부천시보건소 | D24: 55415659 | J24: 수도시설과 | K24: 48473252
A25: 재문 | B25: 경제환경국 | D25: 59944453 | J25: 정수과 | K25: 22091180
A26: 도교 | B26: 경제환경국 | D26: 21091943 | E26: 109601 | I26: 하수도공기업 | J26: 하수하천과 | K26: 133414465
A28: 소관 | B28: 기금명 | D28: 연도말조성액 | E28: 담당부서
A29: 행정 | B29: 재난관리기금 | D29: 14394142 | E29: 행정안전국 | F29: 재난안전과
A30: 도시 | B30: 부대이전 및 부지개발사업기금 | D30: 54942 | E30: 도시국 | F30: 도시개발과
A31: 재정 | B31: 문화예술발전기금 | D31: 5094901 | E31: 문화체육국 | F31: 문화정책과
A32: 행정 | B32: 자활기금 | D32: 2192633 | E32: 복지국 | F32: 복지정책과
A33: 행정 | B33: 성평등기금 | D33: 2891202 | E33: 복지국 | F33: 여성다문화과
A34: 행정 | B34: 노인복지기금 | D34: 5226479 | E34: 복지국 | F34: 노인복지과
A35: 행정 | B35: 식품진흥기금 | D35: 195189 | E35: 문화체육국 | F35: 식품위생과
A36: 도시 | B36: 도시주거환경정비기금 | D36: 6610551 | E36: 주택국 | F36: 주거정비과 원도심재생과
A37: 도시 | B37: 폐기물처리시설주변 영향지역 주민지원기금 | D37: 1104732 | E37: 수도자원국 | F37: 자원순환과
A38: 도시 | B38: 옥외광고발전기금 | D38: 1575933 | E38: 도시국 | F38: 도로관리과
A39: 재정 | B39: 통합재정안정화기금 | D39: 377237088 | E39: 기획조정실 | F39: 예산법무과
A40: 행정 | B40: 고향사랑기금 | D40: 398245 | E40: 행정안전국 | F40: 자치분권과
